BEGIN:VCALENDAR
VERSION:2.0
PRODID:-//ChamberMaster//Event Calendar 2.0//EN
METHOD:PUBLISH
X-PUBLISHED-TTL:P3D
REFRESH-INTERVAL:P3D
CALSCALE:GREGORIAN
BEGIN:VEVENT
DTSTART:20260426T223000Z
DTEND:20260427T000000Z
X-MICROSOFT-CDO-ALLDAYEVENT:FALSE
SUMMARY:The Arts at Delone Catholic present the Annual Spring Concert
DESCRIPTION:The Delone Catholic Music Department presents its annual Spring Concert on Sunday\, April 26\, 2026 at 6:30 p.m. in the Delone Gym.\n\n \n\nThe concert will feature:\n\n	Junior Band\n	Concert Band\n	Chorus\n	Clarinet Ensemble\n	Flute Ensemble\n	Jazz Band\n\n\n\nDonations accepted.
X-ALT-DESC;FMTTYPE=text/html:<div>The Delone Catholic Music Department presents its annual Spring Concert on Sunday\, April 26\, 2026 at 6:30 p.m. in the Delone Gym.</div>\n\n<div>&nbsp\;</div>\n\n<div>The concert will feature:\n<ul>\n	<li>Junior Band</li>\n	<li>Concert Band</li>\n	<li>Chorus</li>\n	<li>Clarinet Ensemble</li>\n	<li>Flute Ensemble</li>\n	<li>Jazz Band</li>\n</ul>\n</div>\n\n<div>Donations accepted.</div>\n
LOCATION:Delone Catholic High School 140 South Oxford Avenue McSherrystown\, PA 17344
UID:e.1500.5923
SEQUENCE:3
DTSTAMP:20260423T192518Z
URL:https://business.discoverhanoverpa.org/events/details/the-arts-at-delone-catholic-present-the-annual-spring-concert-04-26-2026-5923
END:VEVENT

END:VCALENDAR
