BEGIN:VCALENDAR
VERSION:2.0
PRODID:-//ChamberMaster//Event Calendar 2.0//EN
METHOD:PUBLISH
X-PUBLISHED-TTL:P3D
REFRESH-INTERVAL:P3D
CALSCALE:GREGORIAN
BEGIN:VEVENT
DTSTART:20260425T140000Z
DTEND:20260425T153000Z
X-MICROSOFT-CDO-ALLDAYEVENT:FALSE
SUMMARY:Schmuck Lumber Ace Hardware - Planting a Native Perennial Garden to Attract Pollinators Workshop
DESCRIPTION:Join us for our next workshop on Saturday\, 4/25 at 10:00 AM! We'll be covering how to plant a native perennial garden to attract pollinators\, in partnership with Mary Ann Ryan from Penn State Extension. This will be a relaxed\, discussion-style session with time for questions and the chance to look at the plants being discussed. Coffee and pastries will be provided! ?? 10:00 11:30 AM ??? Registration required
X-ALT-DESC;FMTTYPE=text/html:Join us for our next workshop on Saturday\, 4/25 at 10:00 AM! We&rsquo\;ll be covering how to plant a native perennial garden to attract pollinators\, in partnership with Mary Ann Ryan from Penn State Extension. This will be a relaxed\, discussion-style session with time for questions and the chance to look at the plants being discussed. Coffee and pastries will be provided! ?? 10:00&ndash\;11:30 AM ??? Registration required
LOCATION:615 York Street\, Gettysburg\, PA
UID:e.1500.5921
SEQUENCE:3
DTSTAMP:20260423T192825Z
URL:https://business.discoverhanoverpa.org/events/details/schmuck-lumber-ace-hardware-planting-a-native-perennial-garden-to-attract-pollinators-workshop-5921
END:VEVENT

END:VCALENDAR
